BEGIN:VCALENDAR
VERSION:2.0
PRODID:icalendar-ruby
CALSCALE:GREGORIAN
METHOD:PUBLISH
BEGIN:VEVENT
DTSTAMP:20260423T123009Z
UID:5-466264@thechurch133.tithelysetup5.com
DTSTART:20260823T140000Z
DTEND:20260823T150000Z
CLASS:PUBLIC
CREATED:20260423T082047
DESCRIPTION:Sunday Worship
LAST-MODIFIED:20260423T082047
LOCATION:
SUMMARY:Sunday Worship
URL;VALUE=URI:https://churchofsaintjude.ca/events/sunday-worship/2026-08-23
END:VEVENT
END:VCALENDAR
