BEGIN:VCALENDAR
VERSION:2.0
PRODID:icalendar-ruby
CALSCALE:GREGORIAN
METHOD:PUBLISH
BEGIN:VEVENT
DTSTAMP:20260423T142813Z
UID:5-466265@thechurch133.tithelysetup5.com
DTSTART:20260830T140000Z
DTEND:20260830T150000Z
CLASS:PUBLIC
CREATED:20260423T082047
DESCRIPTION:Sunday Worship
LAST-MODIFIED:20260423T082047
LOCATION:
SUMMARY:Sunday Worship
URL;VALUE=URI:https://churchofsaintjude.ca/events/sunday-worship/2026-08-30
END:VEVENT
END:VCALENDAR
