BEGIN:VCALENDAR
VERSION:2.0
PRODID:icalendar-ruby
CALSCALE:GREGORIAN
METHOD:PUBLISH
BEGIN:VEVENT
DTSTAMP:20260423T191952Z
UID:5-467002@thechurch133.tithelysetup5.com
DTSTART:20260920T140000Z
DTEND:20260920T150000Z
CLASS:PUBLIC
CREATED:20260423T140933
DESCRIPTION:Sunday Worship
LAST-MODIFIED:20260423T140933
LOCATION:
SUMMARY:Sunday Worship
URL;VALUE=URI:https://churchofsaintjude.ca/events/sunday-worship/2026-09-20
END:VEVENT
END:VCALENDAR
