BEGIN:VCALENDAR
VERSION:2.0
PRODID:icalendar-ruby
CALSCALE:GREGORIAN
METHOD:PUBLISH
BEGIN:VEVENT
DTSTAMP:20260424T005507Z
UID:5-467739@thechurch133.tithelysetup5.com
DTSTART:20261011T140000Z
DTEND:20261011T150000Z
CLASS:PUBLIC
CREATED:20260423T195809
DESCRIPTION:Sunday Worship
LAST-MODIFIED:20260423T195809
LOCATION:
SUMMARY:Sunday Worship
URL;VALUE=URI:https://churchofsaintjude.ca/events/sunday-worship/2026-10-11
END:VEVENT
END:VCALENDAR
