BEGIN:VCALENDAR
VERSION:2.0
PRODID:icalendar-ruby
CALSCALE:GREGORIAN
METHOD:PUBLISH
BEGIN:VEVENT
DTSTAMP:20260424T044409Z
UID:5-468108@thechurch133.tithelysetup5.com
DTSTART:20261025T140000Z
DTEND:20261025T150000Z
CLASS:PUBLIC
CREATED:20260423T225240
DESCRIPTION:Sunday Worship
LAST-MODIFIED:20260423T225240
LOCATION:
SUMMARY:Sunday Worship
URL;VALUE=URI:https://churchofsaintjude.ca/events/sunday-worship/2026-10-25
END:VEVENT
END:VCALENDAR
